Workbook
Name Банки: [1]Аналитики!$J$2:$K$5
Name Дети: [2]Аналитики!$J$3:$K$22
Name Дети_нов: [2]Аналитики!$G$28:$J$63
Name Зарплата: [3]Аналитики!$V$54:$Y$143
Name Зарплаты_касса: [4]Аналитики!$V$2:$Z$52
Name Источник_поступления: [5]Лист13!$E$2:$E$14
Name Назнаячение_платежа: [6]Лист5!$A$2:$F$5
Name Расход_ДДС: [7]Аналитики!$G$29:$J$65
Name Расходы: [1]Аналитики!$N$2:$R$811
Name Список_адресатов: [5]Лист13!$A$2:$A$562
Name статьи_расходов_программы: [5]Лист13!$M$2:$M$64

Sheet СВОДНЫЙ ОТЧЕТ
B1: Сводные данные по поступлениям и расходам Фонда за период 01.02.2026-28.02.2026 (руб.)
B5: ПОСТУПЛЕНИЯ
B6: Служба сопровождения случая (дети) | E6: 13357022
B7: Служба развития паллиативной помощи в регионах | E7: 6860154.2
B8: Служба сопровождения случая (взрослые) | E8: 2608021.2
B9: Служба привлечения и обучения волонтеров | E9: 486.58
B10: Служба обучения и передачи опыта | E10: 387.19
B11: Служба информирования и просвещения | E11: 291.95
B12: Уставные цели | E12: 20822438
B13: Итого поступления: | E13: =SUM(E6:E12) -> 43648802
B15: РАСХОДЫ
B16: Служба развития паллиативной помощи в регионах | E16: =SUMIF(РАСХОДЫ!$E$6:$E$201,'СВОДНЫЙ ОТЧЕТ'!B16,РАСХОДЫ!$C$6:$C$201) -> 29764140
B17: Служба содействия развитию НКО | E17: =SUMIF(РАСХОДЫ!$E$6:$E$201,'СВОДНЫЙ ОТЧЕТ'!B17,РАСХОДЫ!$C$6:$C$201) -> 17055999
B18: Служба сопровождения случая (дети) | E18: =SUMIF(РАСХОДЫ!$E$6:$E$201,'СВОДНЫЙ ОТЧЕТ'!B18,РАСХОДЫ!$C$6:$C$201) -> 16451827
B19: Служба сопровождения случая (взрослые) | E19: =SUMIF(РАСХОДЫ!$E$6:$E$201,'СВОДНЫЙ ОТЧЕТ'!B19,РАСХОДЫ!$C$6:$C$201) -> 4435306.4
B20: Служба информирования и просвещения | E20: =SUMIF(РАСХОДЫ!$E$6:$E$201,'СВОДНЫЙ ОТЧЕТ'!B20,РАСХОДЫ!$C$6:$C$201) -> 3944692.6
B21: Служба помощи координаторов и волонтеров в хосписе и на дому (взрослые) | E21: =SUMIF(РАСХОДЫ!$E$6:$E$201,'СВОДНЫЙ ОТЧЕТ'!B21,РАСХОДЫ!$C$6:$C$201) -> 3063468.5
B22: Служба помощи координаторов и волонтеров в хосписе и на дому (дети) | E22: =SUMIF(РАСХОДЫ!$E$6:$E$201,'СВОДНЫЙ ОТЧЕТ'!B22,РАСХОДЫ!$C$6:$C$201) -> 2084989.6
B23: Служба обучения и передачи опыта | E23: =SUMIF(РАСХОДЫ!$E$6:$E$201,'СВОДНЫЙ ОТЧЕТ'!B23,РАСХОДЫ!$C$6:$C$201) -> 2205623.4
B24: Служба экспертизы и аналитики | E24: =SUMIF(РАСХОДЫ!$E$6:$E$201,'СВОДНЫЙ ОТЧЕТ'!B24,РАСХОДЫ!$C$6:$C$201) -> 1222623.1
B25: Служба привлечения и обучения волонтеров | E25: =SUMIF(РАСХОДЫ!$E$6:$E$201,'СВОДНЫЙ ОТЧЕТ'!B25,РАСХОДЫ!$C$6:$C$201) -> 1124953.2
B26: Общие административные расходы | E26: =SUMIF(РАСХОДЫ!$E$6:$E$201,'СВОДНЫЙ ОТЧЕТ'!B26,РАСХОДЫ!$C$6:$C$201) -> 5827522.8
B27: Итого расходы: | E27: =SUM(E16:E26) -> 87181145

Sheet QIWI
A1: Благотворительные пожертвования, поступившие через платежную систему "QIWI" за период 01.05.24-31.05.24 (согласно данным личного кабинета)
A5: Дата | B5: Номер транзакции | C5: Сумма | D5: Валюта
D6: РУБ.
A7: ИТОГО: | C7: =SUM(C6:C6) -> 0 | D7: РУБ.

Sheet PayPal
A1: Благотворительные пожертвования, поступившие через платежную систему PayPal за период 01.03.22-31.03.22 (согласно данным личного кабинета)
A5: Дата | B5: ФИО | C5: Сумма | D5: Валюта
D6: RUB
D7: RUB
D8: RUB
D9: RUB
D10: RUB
D11: USD
D12: GBP
D13: ILS
D14: RUB
D15: EUR
D16: RUB
D17: RUB
... D61: EUR

Sheet СМС
A1: Благотворительные пожертвования, поступившие на короткий смс номер 9333 за период 01.02.26-28.02.26 (согласно данным личного кабинета)
A5: Дата | B5: 4 последние цифры телефона/номера карты | C5: Сумма | D5: Валюта
A6: 46054 | B6: 3535 | C6: 20 | D6: РУБ.
A7: 46054 | B7: 5368 | C7: 100 | D7: РУБ.
A8: 46054 | B8: 2622 | C8: 300 | D8: РУБ.
A9: 46054 | B9: 6630 | C9: 100 | D9: РУБ.
A10: 46054 | B10: 1541 | C10: 100 | D10: РУБ.
A11: 46054 | B11: 2917 | C11: 630 | D11: РУБ.
A12: 46054 | B12: 9935 | C12: 50 | D12: РУБ.
A13: 46054 | B13: 6856 | C13: 300 | D13: РУБ.
A14: 46054 | B14: 6316 | C14: 75 | D14: РУБ.
A15: 46054 | B15: 8528 | C15: 200 | D15: РУБ.
A16: 46054 | B16: 8513 | C16: 500 | D16: РУБ.
A17: 46054 | B17: 6023 | C17: 50 | D17: РУБ.
... A7474: 46081 | B7474: 7038 | C7474: 137 | D7474: РУБ.
A7475: ИТОГО: | C7475: =SUM(C6:C7474) -> 1528515 | D7475: РУБ.

Sheet Оплата картами (cloud)
A1: Благотворительные пожертвования, поступившие через веб-сайт www.hospicefund.ru за период 01.02.26-28.02.26 (согласно данным личного кабинета)
A5: Дата | B5: ФИО | C5: 4 последние цифры карты | D5: Сумма | E5: Валюта
A6: 46054 | B6: Moisey | C6: 9606 | D6: 1000 | E6: РУБ.
A7: 46054 | B7: Natalia M. | C7: 6355 | D7: 1000 | E7: РУБ.
A8: 46054 | B8: Natalya V. | C8: 7794 | D8: 2000 | E8: РУБ.
A9: 46054 | B9: Olga D. | C9: 8571 | D9: 100 | E9: РУБ.
A10: 46054 | B10: Yuriy G. | C10: 3038 | D10: 100 | E10: РУБ.
A11: 46054 | B11: Аана Б.В. | C11: 6574 | D11: 500 | E11: РУБ.
A12: 46054 | B12: Аддауд | C12: 6364 | D12: 1000 | E12: РУБ.
A13: 46054 | B13: Александр | C13: 7796 | D13: 100 | E13: РУБ.
A14: 46054 | B14: Александр | C14: 7796 | D14: 100 | E14: РУБ.
A15: 46054 | B15: Александр А.В. | C15: 4785 | D15: 1000 | E15: РУБ.
A16: 46054 | B16: Александр А.И. | C16: 3189 | D16: 100 | E16: РУБ.
A17: 46054 | B17: Александр С.С. | C17: 6048 | D17: 1000 | E17: РУБ.
... A7206: 46081 | B7206: Ярослава | C7206: 4574 | D7206: 1000 | E7206: РУБ.
A7207: ИТОГО: | D7207: =SUM(D6:D7206) -> 8584649 | E7207: РУБ.

Sheet Моб. приложение
A1: Благотворительные пожертвования, поступившие через мобильное приложение "Фонд Вера" за период 01.11.24-30.11.24 (согласно данным личного кабинета)
A5: Дата | B5: ФИО | C5: 4 последние цифры карты | D5: Сумма | E5: Валюта
E6: РУБ.
E7: РУБ.
A8: ИТОГО: | D8: =SUM(D6:D7) -> 0 | E8: РУБ.

Sheet Kassa QIWI
A1: Благотворительные пожертвования, поступившие через платежную систему "Касса QIWI" за период 01.09.22-30.09.22 (согласно данным личного кабинета)
A5: Дата | B5: Номер транзакции | C5: Сумма | D5: Валюта
D6: РУБ.
D7: РУБ.
D8: РУБ.
D9: РУБ.
A10: ИТОГО: | C10: =SUM(C6:C9) -> 0 | D10: РУБ.

Sheet mos.ru
A1: Благотворительные пожертвования, поступившие через благотворительный сервис на mos.ru за период 01.02.26-28.02.26 (согласно данным личного кабинета)
A5: Дата | B5: Номер транзакции | C5: Сумма | D5: Валюта
A6: 46055 | B6: 10445252320022680202202695293643 | C6: 100 | D6: РУБ.
A7: 46056 | B7: 10445252320022680302202695241098 | C7: 100 | D7: РУБ.
A8: 46056 | B8: 10445252320022680302202695271676 | C8: 1000 | D8: РУБ.
A9: 46058 | B9: 10445252320022680502202695224238 | C9: 50 | D9: РУБ.
A10: 46058 | B10: 10445252320022680502202695219061 | C10: 200 | D10: РУБ.
A11: 46058 | B11: 10445252320022680502202695343222 | C11: 10000 | D11: РУБ.
A12: 46059 | B12: 10445252320022680602202695220644 | C12: 500 | D12: РУБ.
A13: 46060 | B13: 10445252320022680702202695230482 | C13: 200 | D13: РУБ.
A14: 46063 | B14: 10445252320022681002202695324516 | C14: 308 | D14: РУБ.
A15: 46065 | B15: 10445252320022681202202695217647 | C15: 500 | D15: РУБ.
A16: 46065 | B16: 10445252320022681202202695217673 | C16: 50 | D16: РУБ.
A17: 46065 | B17: 10445252320022681202202695217734 | C17: 50 | D17: РУБ.
... A39: 46081 | B39: 10445252320022682802202695230580 | C39: 500 | D39: РУБ.
A40: ИТОГО: | C40: =SUM(C6:C39) -> 25465 | D40: РУБ.

Sheet Яндекс
A1: Благотворительные пожертвования, поступившие через платежную систему Яндекс.Деньги за период 01.02.26-28.02.26 (согласно данным личного кабинета)
A5: Дата | B5: Номер транзакции | C5: Сумма | D5: Валюта
A6: 46055 | B6: 31130332-000f-5000-b000-1b5a505c0c98 | C6: 150 | D6: РУБ.
A7: 46060 | B7: 31190b49-000f-5000-b000-11d8fb4af5be | C7: 200 | D7: РУБ.
A8: 46061 | B8: 311ac809-000f-5001-9000-12aa2762518d | C8: 200 | D8: РУБ.
A9: 46062 | B9: 311bd6a9-000f-5000-b000-1413e34ee3ad | C9: 150 | D9: РУБ.
A10: 46067 | B10: 3122e8de-000f-5001-8000-16fcc8011a97 | C10: 30 | D10: РУБ.
A11: 46072 | B11: 312927c8-000f-5000-b000-17b7e4b75dda | C11: 50 | D11: РУБ.
A12: 46075 | B12: 312cf7c5-000f-5000-8000-119187b6f71d | C12: 1000 | D12: РУБ.
A13: 46079 | B13: 3132134a-000f-5001-8000-1551dd0ab05c | C13: 100 | D13: РУБ.
A14: 46081 | B14: 3134f299-000f-5000-b000-13fdaa7a01cc | C14: 100 | D14: РУБ.
A15: ИТОГО: | C15: =SUM(C6:C14) -> 1980 | D15: РУБ.

Sheet ФЛ (кроме СБП)
A1: Благотворительные пожертвования, поступившие на расчетный счет Фонда от физических лиц (кроме СБП платежей) за период 01.02.26-28.02.26
A5: Дата | B5: ФИО | C5: Сумма | D5: Валюта
A6: 46054 | B6: Александр Б.А. | C6: 2000 | D6: РУБ.
A7: 46054 | B7: Александр Б.Е. | C7: 500 | D7: РУБ.
A8: 46054 | B8: Александр Г.В. | C8: 50 | D8: РУБ.
A9: 46054 | B9: Александр Г.С. | C9: 500 | D9: РУБ.
A10: 46054 | B10: Александр К.В. | C10: 1000 | D10: РУБ.
A11: 46054 | B11: Александр М.Л. | C11: 10 | D11: РУБ.
A12: 46054 | B12: Александр С.С. | C12: 789 | D12: РУБ.
A13: 46054 | B13: Александр Ш.П. | C13: 20 | D13: РУБ.
A14: 46054 | B14: Александра Б.В. | C14: 600 | D14: РУБ.
A15: 46054 | B15: Александра С.В. | C15: 100 | D15: РУБ.
A16: 46054 | B16: Алексей Д.К. | C16: 250 | D16: РУБ.
A17: 46054 | B17: Алексей Е.Л. | C17: 1586 | D17: РУБ.
... A7161: 46081 | B7161: Ярослав К.Б. | C7161: 31 | D7161: РУБ.
A7162: ИТОГО: | C7162: =SUM(C6:C7161) -> 9754830.1 | D7162: РУБ.

Sheet ФЛ (СБП)
A1: Благотворительные пожертвования, поступившие на расчетный счет Фонда от физических лиц через СБП за период 01.02.26-28.02.26
A5: Дата | B5: ФИО | C5: Сумма | D5: Валюта
A6: 46054 | B6: Александр | C6: 500 | D6: РУБ.
A7: 46054 | B7: Александр М. | C7: 10000 | D7: РУБ.
A8: 46054 | B8: Алла Г.В. | C8: 4000 | D8: РУБ.
A9: 46054 | B9: Анонимное пожертвование | C9: 500 | D9: РУБ.
A10: 46054 | B10: Анонимное пожертвование | C10: 2 | D10: РУБ.
A11: 46054 | B11: Анонимное пожертвование | C11: 3.01 | D11: РУБ.
A12: 46054 | B12: Анонимное пожертвование | C12: 20 | D12: РУБ.
A13: 46054 | B13: Анонимное пожертвование | C13: 300 | D13: РУБ.
A14: 46054 | B14: Валентин С.Е. | C14: 500 | D14: РУБ.
A15: 46054 | B15: Василий Б.П. | C15: 2000 | D15: РУБ.
A16: 46054 | B16: Виталий К.В. | C16: 200 | D16: РУБ.
A17: 46054 | B17: Дарья З. | C17: 300 | D17: РУБ.
... A1789: 46081 | B1789: Юлия У.А. | C1789: 1000 | D1789: РУБ.
A1790: ИТОГО: | C1790: =SUM(C6:C1789) -> 2166474.2 | D1790: РУБ.

Sheet ЮЛ
A1: Благотворительные пожертвования, поступившие на расчетный счет Фонда от юридических лиц за период 01.02.26-28.02.26
A5: Дата | B5: Компания | C5: Сумма | D5: Валюта
A6: 46055 | B6: "Вклад в будущее" | C6: 423335.87 | D6: РУБ.
A7: 46055 | B7: АНО ДОПОЛНИТЕЛЬНОГО ПРОФЕССИОНАЛЬНОГО ОБРАЗОВАНИЯ "ИНСТИТУТ ЭЛЕКТРОННЫХ СИСТЕМ БЕЗОПАСНОСТИ" | C7: 10000 | D7: РУБ.
A8: 46055 | B8: ООО "КОРСАР" | C8: 5000 | D8: РУБ.
A9: 46055 | B9: ООО "РУССКАЯ МЕХОВАЯ КОМПАНИЯ" | C9: 150000 | D9: РУБ.
A10: 46056 | B10: ООО "БИНООПТИК" | C10: 50000 | D10: РУБ.
A11: 46056 | B11: ООО "ИММУНОСФЕРА" | C11: 1000 | D11: РУБ.
A12: 46056 | B12: ООО "ОРИЕНТАЛ" | C12: 40000 | D12: РУБ.
A13: 46057 | B13: ООО "АРГО" | C13: 10000 | D13: РУБ.
A14: 46057 | B14: ООО "ИММУНОСФЕРА" | C14: 1000 | D14: РУБ.
A15: 46058 | B15: БФ "Абсолют-Помощь" | C15: 6941376 | D15: РУБ.
A16: 46059 | B16: ООО "ИММУНОСФЕРА" | C16: 1000 | D16: РУБ.
A17: 46062 | B17: ООО "ИММУНОСФЕРА" | C17: 1000 | D17: РУБ.
... A54: 46081 | B54: ПАО "СОВКОМБАНК" | C54: 1000 | D54: РУБ.
A55: ИТОГО: | C55: =SUM(C6:C54) -> 19917593 | D55: РУБ.

Sheet ФЛ (Альфа)
A1: Благотворительные пожертвования, поступившие на расчетный счет Фонда от физических лиц (Альфа) за период 01.11.24-30.11.24
A5: Дата | B5: ФИО | C5: Сумма | D5: Валюта
D6: РУБ.
D7: РУБ.
A8: ИТОГО: | C8: =SUM(C6:C7) -> 0 | D8: РУБ.

Sheet ФЛ (ВТБ)
A1: Благотворительные пожертвования, поступившие на расчетный счет Фонда от физических лиц (ВТБ) за период 01.02.26-28.02.26
A5: Дата | B5: ФИО | C5: Сумма | D5: Валюта
A6: 46054 | B6: Анонимное пожертвование | C6: 250 | D6: РУБ.
A7: 46054 | B7: Анонимное пожертвование | C7: 5000 | D7: РУБ.
A8: 46054 | B8: Анонимное пожертвование | C8: 300 | D8: РУБ.
A9: 46054 | B9: Анонимное пожертвование | C9: 1000 | D9: РУБ.
A10: 46054 | B10: Анонимное пожертвование | C10: 1000 | D10: РУБ.
A11: 46055 | B11: Анонимное пожертвование | C11: 200 | D11: РУБ.
A12: 46055 | B12: Анонимное пожертвование | C12: 5000 | D12: РУБ.
A13: 46055 | B13: Анонимное пожертвование | C13: 4000 | D13: РУБ.
A14: 46056 | B14: Ирина Ч. | C14: 300 | D14: РУБ.
A15: 46056 | B15: Надеж Ч. | C15: 500 | D15: РУБ.
A16: 46057 | B16: Алексей Я. | C16: 50 | D16: РУБ.
A17: 46058 | B17: Анонимное пожертвование | C17: 1000 | D17: РУБ.
... A89: 46081 | B89: Анонимное пожертвование | C89: 1500 | D89: РУБ.
A90: ИТОГО: | C90: =SUM(C6:C89) -> 161068 | D90: РУБ.

Sheet ящики пожертв
A1: Благотворительные пожертвования, поступившие через ящик для пожертвований за период 01.11.24-30.11.24
A5: Дата выемки | B5: ФИО | C5: Сумма | D5: Валюта
D6: РУБ.
D7: РУБ.
A8: ИТОГО: | C8: =SUM(C6:C7) -> 0 | D8: РУБ.

Sheet РАСХОДЫ
B2: Отчет о расходах Благотворительного фонда помощи хосписам "Вера" за февраль 2026г.
B5: дата | C5: сумма руб. | D5: Назначение платежа | E5: Проект
B6: 46055 | C6: 2414.29 | D6: Оплата за расходные медицинские материалы (для - Сумайя П.) | E6: Служба сопровождения случая (дети)
B7: 46055 | C7: 10300 | D7: Оплата за жилет-майка и ремень тазовый точечный Мир ТСР (Размер 4) ((для - Илья М.) | E7: Служба сопровождения случая (дети)
B8: 46055 | C8: 12222.33 | D8: Оплата за расходные медицинские материалы (для - Тимофей С.) | E8: Служба сопровождения случая (дети)
B9: 46055 | C9: 13387.5 | D9: Оплата за услуги по уходу в декабре 2025 (для - Михаил К.) | E9: Служба сопровождения случая (дети)
B10: 46055 | C10: 19800 | D10: Оплата за услуги по уходу в декабре 2025 (для - Александр Б.) | E10: Служба сопровождения случая (дети)
B11: 46055 | C11: 24500 | D11: Оплата за услуги по уходу в декабре 2025 (для - Анна К.) | E11: Служба сопровождения случая (дети)
B12: 46055 | C12: 55379.88 | D12: Оплата за расходные медицинские материалы (для - Анна К.) | E12: Служба сопровождения случая (дети)
B13: 46055 | C13: 88700 | D13: Оплата за Кресло-коляска инвалид. "Vermeiren" в исполнении: кресло-коляска механическое (для - Николай Ж.) | E13: Служба сопровождения случая (дети)
B14: 46055 | C14: 102550 | D14: Оплата за подъемник реабилитационный 310.01, подвес- гамак усиленный (для - Вероника С.) | E14: Служба сопровождения случая (дети)
B15: 46055 | C15: 116500 | D15: Оплата за подъемник электрический передвижной 310.01 (для - Роман К.) | E15: Служба сопровождения случая (дети)
B16: 46055 | C16: 131739.88 | D16: Оплата за систему ингаляции и расходные медицинские материалы (для - Семен А.) | E16: Служба сопровождения случая (дети)
B17: 46055 | C17: 221600 | D17: Оплата за кресло-коляску с санит.оснащ. "Hoggi" р.2 (для - Софья К.) | E17: Служба сопровождения случая (дети)
... B201: 46080 | C201: 169800 | D201: Оплата за батарею сменную Ventilogic и расходные медицинские материалы (для - Ксения М.) | E201: Служба сопровождения случая (дети)
